BEGIN:VCALENDAR
VERSION:2.0
PRODID:-//Plone.org//NONSGML plone.app.event//EN
X-WR-TIMEZONE:Europe/Vienna
BEGIN:VEVENT
SUMMARY:Elternabend 1. Klassen
DTSTART;TZID=Europe/Vienna;VALUE=DATE-TIME:20200824T180000
DTEND;TZID=Europe/Vienna;VALUE=DATE-TIME:20200824T190000
DTSTAMP;VALUE=DATE-TIME:20260419T194345Z
UID:22c70e9df7004d88b0b468835dbd91ce@127.0.0.1:10350
CREATED;VALUE=DATE-TIME:20200705T130208Z
LAST-MODIFIED;VALUE=DATE-TIME:20200705T130212Z
URL:https://www.schule-burgstrasse.ch/termine/elternabend-1-klassen-2
END:VEVENT
BEGIN:VTIMEZONE
TZID:Europe/Vienna
X-LIC-LOCATION:Europe/Vienna
BEGIN:DAYLIGHT
DTSTART;VALUE=DATE-TIME:20200329T030000
TZNAME:CEST
TZOFFSETFROM:+0100
TZOFFSETTO:+0200
END:DAYLIGHT
END:VTIMEZONE
END:VCALENDAR
